Package: DepecheR Version: 1.25.0 Command: /Library/Frameworks/R.framework/Resources/bin/R CMD build --keep-empty-dirs --no-resave-data DepecheR StartedAt: 2025-10-09 16:10:59 -0400 (Thu, 09 Oct 2025) EndedAt: 2025-10-09 16:11:19 -0400 (Thu, 09 Oct 2025) EllapsedTime: 20.2 seconds RetCode: 0 Status: OK PackageFile: DepecheR_1.25.0.tar.gz PackageFileSize: 2.561 MiB