Package: DepecheR Version: 1.25.0 Command: rm -rf DepecheR.buildbin-libdir && mkdir DepecheR.buildbin-libdir && /Users/biocbuild/BBS/utils/build-universal.sh DepecheR_1.25.0.tar.gz /Library/Frameworks/R.framework/Resources/bin/R DepecheR.buildbin-libdir StartedAt: 2025-10-09 22:38:21 -0400 (Thu, 09 Oct 2025) EndedAt: 2025-10-09 22:38:32 -0400 (Thu, 09 Oct 2025) EllapsedTime: 11.2 seconds RetCode: 0 Status: OK PackageFile: DepecheR_1.25.0.tgz PackageFileSize: 2.741 MiB