Package: DepInfeR Version: 1.13.0 Command: /home/biocbuild/R/R/bin/R CMD INSTALL DepInfeR StartedAt: 2025-10-16 21:13:36 -0000 (Thu, 16 Oct 2025) EndedAt: 2025-10-16 21:14:20 -0000 (Thu, 16 Oct 2025) EllapsedTime: 44.3 seconds RetCode: 0 Status: OK