Package: DepInfeR Version: 1.13.0 Command: /home/biocbuild/R/R/bin/R CMD build --keep-empty-dirs --no-resave-data DepInfeR StartedAt: 2025-10-17 00:36:50 -0000 (Fri, 17 Oct 2025) EndedAt: 2025-10-17 00:37:56 -0000 (Fri, 17 Oct 2025) EllapsedTime: 65.0 seconds RetCode: 0 Status: OK PackageFile: DepInfeR_1.13.0.tar.gz PackageFileSize: 1.87 MiB