Package: DepInfeR Version: 1.13.0 Command: /home/biocbuild/bbs-3.22-bioc/R/bin/R CMD check --install=check:DepInfeR.install-out.txt --library=/home/biocbuild/bbs-3.22-bioc/R/site-library --timings DepInfeR_1.13.0.tar.gz StartedAt: 2025-10-22 23:09:13 -0400 (Wed, 22 Oct 2025) EndedAt: 2025-10-22 23:11:33 -0400 (Wed, 22 Oct 2025) EllapsedTime: 140.1 seconds RetCode: 0 Status: OK CheckDir: DepInfeR.Rcheck Warnings: 0