Package: DepInfeR Version: 1.15.0 Command: /home/biocbuild/bbs-3.23-bioc/R/bin/R CMD INSTALL DepInfeR StartedAt: 2025-11-07 15:06:03 -0500 (Fri, 07 Nov 2025) EndedAt: 2025-11-07 15:06:28 -0500 (Fri, 07 Nov 2025) EllapsedTime: 24.8 seconds RetCode: 0 Status: OK