Package: DepInfeR Version: 1.13.0 Command: /Library/Frameworks/R.framework/Resources/bin/R CMD build --keep-empty-dirs --no-resave-data DepInfeR StartedAt: 2025-09-29 16:41:57 -0400 (Mon, 29 Sep 2025) EndedAt: 2025-09-29 16:43:13 -0400 (Mon, 29 Sep 2025) EllapsedTime: 75.6 seconds RetCode: 0 Status: OK PackageFile: DepInfeR_1.13.0.tar.gz PackageFileSize: 2.338 MiB