Package: DelayedTensor Version: 1.17.0 Command: /home/biocbuild/bbs-3.23-bioc/R/bin/R CMD INSTALL DelayedTensor StartedAt: 2025-11-07 15:55:39 -0500 (Fri, 07 Nov 2025) EndedAt: 2025-11-07 15:56:08 -0500 (Fri, 07 Nov 2025) EllapsedTime: 29.2 seconds RetCode: 0 Status: OK