Package: DelayedTensor Version: 1.17.0 Command: /home/biocbuild/bbs-3.23-bioc/R/bin/R CMD check --install=check:DelayedTensor.install-out.txt --library=/home/biocbuild/bbs-3.23-bioc/R/site-library --timings DelayedTensor_1.17.0.tar.gz StartedAt: 2025-11-07 22:52:34 -0500 (Fri, 07 Nov 2025) EndedAt: 2025-11-07 23:00:17 -0500 (Fri, 07 Nov 2025) EllapsedTime: 462.7 seconds RetCode: 0 Status: WARNINGS CheckDir: DelayedTensor.Rcheck Warnings: 2