Package: DelayedMatrixStats Version: 1.33.0 Command: /home/biocbuild/bbs-3.23-bioc/R/bin/R CMD check --install=check:DelayedMatrixStats.install-out.txt --library=/home/biocbuild/bbs-3.23-bioc/R/site-library --timings DelayedMatrixStats_1.33.0.tar.gz StartedAt: 2025-11-17 22:55:59 -0500 (Mon, 17 Nov 2025) EndedAt: 2025-11-17 23:05:16 -0500 (Mon, 17 Nov 2025) EllapsedTime: 557.8 seconds RetCode: 0 Status: OK CheckDir: DelayedMatrixStats.Rcheck Warnings: 0