Package: DelayedDataFrame Version: 1.27.0 Command: /home/biocbuild/bbs-3.23-bioc/R/bin/R CMD check --install=check:DelayedDataFrame.install-out.txt --library=/home/biocbuild/bbs-3.23-bioc/R/site-library --timings DelayedDataFrame_1.27.0.tar.gz StartedAt: 2025-11-04 22:37:52 -0500 (Tue, 04 Nov 2025) EndedAt: 2025-11-04 22:40:22 -0500 (Tue, 04 Nov 2025) EllapsedTime: 150.1 seconds RetCode: 0 Status: OK CheckDir: DelayedDataFrame.Rcheck Warnings: 0