Package: DelayedArray Version: 0.37.0 Command: /home/biocbuild/bbs-3.23-bioc/R/bin/R CMD INSTALL DelayedArray StartedAt: 2025-11-03 15:14:46 -0500 (Mon, 03 Nov 2025) EndedAt: 2025-11-03 15:15:13 -0500 (Mon, 03 Nov 2025) EllapsedTime: 27.9 seconds RetCode: 0 Status: OK