Package: DegNorm Version: 1.19.1 Command: /Library/Frameworks/R.framework/Resources/bin/R CMD INSTALL DegNorm StartedAt: 2025-10-12 15:36:07 -0400 (Sun, 12 Oct 2025) EndedAt: 2025-10-12 15:37:18 -0400 (Sun, 12 Oct 2025) EllapsedTime: 71.0 seconds RetCode: 0 Status: OK