Package: DegNorm Version: 1.19.1 Command: /Library/Frameworks/R.framework/Resources/bin/R CMD build --keep-empty-dirs --no-resave-data DegNorm StartedAt: 2025-10-12 16:46:34 -0400 (Sun, 12 Oct 2025) EndedAt: 2025-10-12 16:54:56 -0400 (Sun, 12 Oct 2025) EllapsedTime: 502.0 seconds RetCode: 0 Status: OK PackageFile: DegNorm_1.19.1.tar.gz PackageFileSize: 3.399 MiB