Package: DegNorm Version: 1.19.1 Command: rm -rf DegNorm.buildbin-libdir && mkdir DegNorm.buildbin-libdir && /Users/biocbuild/BBS/utils/build-universal.sh DegNorm_1.19.1.tar.gz /Library/Frameworks/R.framework/Resources/bin/R DegNorm.buildbin-libdir StartedAt: 2025-10-13 02:29:03 -0400 (Mon, 13 Oct 2025) EndedAt: 2025-10-13 02:30:19 -0400 (Mon, 13 Oct 2025) EllapsedTime: 76.0 seconds RetCode: 0 Status: OK PackageFile: DegNorm_1.19.1.tgz PackageFileSize: 3.255 MiB