Package: DegNorm Version: 1.21.0 Maintainer: Ji-Ping Wang MaintainerEmail: jzwang at northwestern.edu git_url: https://git.bioconductor.org/packages/DegNorm git_branch: devel git_last_commit: caacfac git_last_commit_date: 2025-10-29 10:59:52 -0400 (Wed, 29 Oct 2025)