Package: DegCre Version: 1.7.0 Command: /home/biocbuild/bbs-3.23-bioc/R/bin/R CMD INSTALL DegCre StartedAt: 2025-11-05 15:49:47 -0500 (Wed, 05 Nov 2025) EndedAt: 2025-11-05 15:50:29 -0500 (Wed, 05 Nov 2025) EllapsedTime: 42.8 seconds RetCode: 0 Status: OK