Package: DegCre Version: 1.7.0 Command: /home/biocbuild/bbs-3.23-bioc/R/bin/R CMD build --keep-empty-dirs --no-resave-data DegCre StartedAt: 2025-11-05 17:15:54 -0500 (Wed, 05 Nov 2025) EndedAt: 2025-11-05 17:17:21 -0500 (Wed, 05 Nov 2025) EllapsedTime: 87.1 seconds RetCode: 0 Status: OK PackageFile: DegCre_1.7.0.tar.gz PackageFileSize: 2.293 MiB