Package: DegCre Version: 1.5.1 Command: /Library/Frameworks/R.framework/Resources/bin/R CMD INSTALL DegCre StartedAt: 2025-10-21 15:38:36 -0400 (Tue, 21 Oct 2025) EndedAt: 2025-10-21 15:39:34 -0400 (Tue, 21 Oct 2025) EllapsedTime: 57.6 seconds RetCode: 0 Status: OK