Package: DegCre Version: 1.5.1 Command: /Library/Frameworks/R.framework/Resources/bin/R CMD build --keep-empty-dirs --no-resave-data DegCre StartedAt: 2025-10-21 16:52:23 -0400 (Tue, 21 Oct 2025) EndedAt: 2025-10-21 16:54:31 -0400 (Tue, 21 Oct 2025) EllapsedTime: 127.8 seconds RetCode: 0 Status: OK PackageFile: DegCre_1.5.1.tar.gz PackageFileSize: 2.427 MiB