Package: DeepPINCS Version: 1.17.0 Command: /Library/Frameworks/R.framework/Resources/bin/R CMD check --install=check:DeepPINCS.install-out.txt --library=/Library/Frameworks/R.framework/Resources/library --no-vignettes --timings DeepPINCS_1.17.0.tar.gz StartedAt: 2025-10-15 19:09:27 -0400 (Wed, 15 Oct 2025) EndedAt: 2025-10-15 19:10:03 -0400 (Wed, 15 Oct 2025) EllapsedTime: 36.3 seconds RetCode: 0 Status: OK CheckDir: DeepPINCS.Rcheck Warnings: 0