Package: DeeDeeExperiment Version: 0.99.5 Command: /home/biocbuild/R/R/bin/R CMD INSTALL DeeDeeExperiment StartedAt: 2025-10-13 20:56:09 -0000 (Mon, 13 Oct 2025) EndedAt: 2025-10-13 20:56:49 -0000 (Mon, 13 Oct 2025) EllapsedTime: 40.5 seconds RetCode: 0 Status: OK