Package: DeeDeeExperiment Version: 1.1.0 Command: /home/biocbuild/bbs-3.23-bioc/R/bin/R CMD check --install=check:DeeDeeExperiment.install-out.txt --library=/home/biocbuild/bbs-3.23-bioc/R/site-library --timings DeeDeeExperiment_1.1.0.tar.gz StartedAt: 2025-11-14 22:44:14 -0500 (Fri, 14 Nov 2025) EndedAt: 2025-11-14 22:49:12 -0500 (Fri, 14 Nov 2025) EllapsedTime: 297.3 seconds RetCode: 0 Status: OK CheckDir: DeeDeeExperiment.Rcheck Warnings: 0