Package: DeeDeeExperiment Version: 1.1.0 Command: /home/biocbuild/bbs-3.23-bioc/R/bin/R CMD build --keep-empty-dirs --no-resave-data DeeDeeExperiment StartedAt: 2025-11-05 17:14:54 -0500 (Wed, 05 Nov 2025) EndedAt: 2025-11-05 17:15:54 -0500 (Wed, 05 Nov 2025) EllapsedTime: 60.0 seconds RetCode: 0 Status: OK PackageFile: DeeDeeExperiment_1.1.0.tar.gz PackageFileSize: 4.503 MiB