Package: DeconvoBuddies Version: 1.3.0 Command: /home/biocbuild/bbs-3.23-bioc/R/bin/R CMD INSTALL DeconvoBuddies StartedAt: 2025-11-16 15:55:19 -0500 (Sun, 16 Nov 2025) EndedAt: 2025-11-16 15:56:07 -0500 (Sun, 16 Nov 2025) EllapsedTime: 48.4 seconds RetCode: 0 Status: OK