Package: DeconvoBuddies Version: 1.1.5 Command: /Library/Frameworks/R.framework/Resources/bin/R CMD INSTALL DeconvoBuddies StartedAt: 2025-10-24 15:53:51 -0400 (Fri, 24 Oct 2025) EndedAt: 2025-10-24 15:55:00 -0400 (Fri, 24 Oct 2025) EllapsedTime: 68.5 seconds RetCode: 0 Status: OK