Package: DeconvoBuddies Version: 1.1.5 Command: /Library/Frameworks/R.framework/Resources/bin/R CMD INSTALL DeconvoBuddies StartedAt: 2025-10-09 15:30:08 -0400 (Thu, 09 Oct 2025) EndedAt: 2025-10-09 15:30:35 -0400 (Thu, 09 Oct 2025) EllapsedTime: 27.8 seconds RetCode: 0 Status: OK