Package: DeconvoBuddies Version: 1.1.5 Command: /Library/Frameworks/R.framework/Resources/bin/R CMD build --keep-empty-dirs --no-resave-data DeconvoBuddies StartedAt: 2025-10-09 16:08:23 -0400 (Thu, 09 Oct 2025) EndedAt: 2025-10-09 16:15:18 -0400 (Thu, 09 Oct 2025) EllapsedTime: 414.5 seconds RetCode: 0 Status: OK PackageFile: DeconvoBuddies_1.1.5.tar.gz PackageFileSize: 6.193 MiB