Package: DeconvoBuddies Version: 1.3.0 Maintainer: Louise Huuki-Myers MaintainerEmail: lahuuki at gmail.com git_url: https://git.bioconductor.org/packages/DeconvoBuddies git_branch: devel git_last_commit: a72d7d5 git_last_commit_date: 2025-10-29 11:35:32 -0400 (Wed, 29 Oct 2025)