Package: DeconRNASeq Version: 1.53.0 Command: /home/biocbuild/bbs-3.23-bioc/R/bin/R CMD INSTALL DeconRNASeq StartedAt: 2025-11-02 15:19:15 -0500 (Sun, 02 Nov 2025) EndedAt: 2025-11-02 15:19:22 -0500 (Sun, 02 Nov 2025) EllapsedTime: 6.8 seconds RetCode: 0 Status: OK