Package: DeconRNASeq Version: 1.53.0 Command: /home/biocbuild/bbs-3.23-bioc/R/bin/R CMD build --keep-empty-dirs --no-resave-data DeconRNASeq StartedAt: 2025-10-31 17:22:19 -0400 (Fri, 31 Oct 2025) EndedAt: 2025-10-31 17:22:29 -0400 (Fri, 31 Oct 2025) EllapsedTime: 10.0 seconds RetCode: 1 Status: ERROR PackageFile: None PackageFileSize: NA