Package: DeconRNASeq Version: 1.51.0 Command: /Library/Frameworks/R.framework/Resources/bin/R CMD INSTALL DeconRNASeq StartedAt: 2025-10-10 15:20:08 -0400 (Fri, 10 Oct 2025) EndedAt: 2025-10-10 15:20:20 -0400 (Fri, 10 Oct 2025) EllapsedTime: 11.9 seconds RetCode: 0 Status: OK