Package: DeconRNASeq Version: 1.51.0 Command: /Library/Frameworks/R.framework/Resources/bin/R CMD INSTALL DeconRNASeq StartedAt: 2025-09-29 15:07:00 -0400 (Mon, 29 Sep 2025) EndedAt: 2025-09-29 15:07:04 -0400 (Mon, 29 Sep 2025) EllapsedTime: 3.7 seconds RetCode: 0 Status: OK