Package: DeconRNASeq Version: 1.51.0 Command: /Library/Frameworks/R.framework/Resources/bin/R CMD build --keep-empty-dirs --no-resave-data DeconRNASeq StartedAt: 2025-09-29 16:06:41 -0400 (Mon, 29 Sep 2025) EndedAt: 2025-09-29 16:06:45 -0400 (Mon, 29 Sep 2025) EllapsedTime: 4.0 seconds RetCode: 1 Status: ERROR PackageFile: None PackageFileSize: NA