Package: DeMixT Version: 1.27.0 Command: /home/biocbuild/bbs-3.23-bioc/R/bin/R CMD build --keep-empty-dirs --no-resave-data DeMixT StartedAt: 2025-11-20 17:15:09 -0500 (Thu, 20 Nov 2025) EndedAt: 2025-11-20 17:16:29 -0500 (Thu, 20 Nov 2025) EllapsedTime: 80.0 seconds RetCode: 0 Status: OK PackageFile: DeMixT_1.27.0.tar.gz PackageFileSize: 6.058 MiB