Package: DeMixT Version: 1.25.0 Command: /Library/Frameworks/R.framework/Resources/bin/R CMD INSTALL DeMixT StartedAt: 2025-10-24 15:38:31 -0400 (Fri, 24 Oct 2025) EndedAt: 2025-10-24 15:39:48 -0400 (Fri, 24 Oct 2025) EllapsedTime: 76.8 seconds RetCode: 0 Status: OK