Package: DeMixT Version: 1.25.0 Command: /Library/Frameworks/R.framework/Resources/bin/R CMD build --keep-empty-dirs --no-resave-data DeMixT StartedAt: 2025-10-24 16:49:52 -0400 (Fri, 24 Oct 2025) EndedAt: 2025-10-24 16:51:24 -0400 (Fri, 24 Oct 2025) EllapsedTime: 91.4 seconds RetCode: 0 Status: OK PackageFile: DeMixT_1.25.0.tar.gz PackageFileSize: 6.072 MiB