Package: DeMixT Version: 1.25.0 Command: /Library/Frameworks/R.framework/Resources/bin/R CMD INSTALL DeMixT StartedAt: 2025-10-14 15:17:51 -0400 (Tue, 14 Oct 2025) EndedAt: 2025-10-14 15:18:15 -0400 (Tue, 14 Oct 2025) EllapsedTime: 23.4 seconds RetCode: 0 Status: OK