Package: DeMixT Version: 1.25.0 Command: rm -rf DeMixT.buildbin-libdir && mkdir DeMixT.buildbin-libdir && /Users/biocbuild/BBS/utils/build-universal.sh DeMixT_1.25.0.tar.gz /Library/Frameworks/R.framework/Resources/bin/R DeMixT.buildbin-libdir StartedAt: 2025-10-14 23:19:24 -0400 (Tue, 14 Oct 2025) EndedAt: 2025-10-14 23:19:51 -0400 (Tue, 14 Oct 2025) EllapsedTime: 26.5 seconds RetCode: 0 Status: OK PackageFile: DeMixT_1.25.0.tgz PackageFileSize: 3.973 MiB