Package: DeMAND Version: 1.41.0 Command: /home/biocbuild/bbs-3.23-bioc/R/bin/R CMD INSTALL DeMAND StartedAt: 2025-11-20 15:03:54 -0500 (Thu, 20 Nov 2025) EndedAt: 2025-11-20 15:04:03 -0500 (Thu, 20 Nov 2025) EllapsedTime: 9.6 seconds RetCode: 0 Status: OK