Package: DeMAND Version: 1.40.0 Command: /Library/Frameworks/R.framework/Resources/bin/R CMD INSTALL DeMAND StartedAt: 2025-10-29 21:51:01 -0400 (Wed, 29 Oct 2025) EndedAt: 2025-10-29 21:51:38 -0400 (Wed, 29 Oct 2025) EllapsedTime: 36.8 seconds RetCode: 0 Status: OK