Package: DeMAND Version: 1.40.0 Command: /Library/Frameworks/R.framework/Resources/bin/R CMD build --keep-empty-dirs --no-resave-data DeMAND StartedAt: 2025-10-29 23:24:48 -0400 (Wed, 29 Oct 2025) EndedAt: 2025-10-29 23:25:00 -0400 (Wed, 29 Oct 2025) EllapsedTime: 12.1 seconds RetCode: 0 Status: OK PackageFile: DeMAND_1.40.0.tar.gz PackageFileSize: 317.9 KiB