Package: DeMAND Version: 1.40.0 Command: rm -rf DeMAND.buildbin-libdir && mkdir DeMAND.buildbin-libdir && /Users/biocbuild/BBS/utils/build-universal.sh DeMAND_1.40.0.tar.gz /Library/Frameworks/R.framework/Resources/bin/R DeMAND.buildbin-libdir StartedAt: 2025-10-30 08:12:45 -0400 (Thu, 30 Oct 2025) EndedAt: 2025-10-30 08:12:50 -0400 (Thu, 30 Oct 2025) EllapsedTime: 5.1 seconds RetCode: 0 Status: OK PackageFile: DeMAND_1.40.0.tgz PackageFileSize: 351.9 KiB