Package: DeMAND Version: 1.39.0 Command: /Library/Frameworks/R.framework/Resources/bin/R CMD INSTALL DeMAND StartedAt: 2025-10-06 15:02:46 -0400 (Mon, 06 Oct 2025) EndedAt: 2025-10-06 15:02:50 -0400 (Mon, 06 Oct 2025) EllapsedTime: 4.0 seconds RetCode: 0 Status: OK