Package: Damsel Version: 1.5.0 Command: /home/biocbuild/bbs-3.22-bioc/R/bin/R CMD INSTALL Damsel StartedAt: 2025-09-30 15:49:37 -0400 (Tue, 30 Sep 2025) EndedAt: 2025-09-30 15:49:43 -0400 (Tue, 30 Sep 2025) EllapsedTime: 5.3 seconds RetCode: 0 Status: OK