Package: Damsel Version: 1.7.0 Command: /Library/Frameworks/R.framework/Resources/bin/R CMD build --keep-empty-dirs --no-resave-data Damsel StartedAt: 2025-11-21 16:04:41 -0500 (Fri, 21 Nov 2025) EndedAt: 2025-11-21 16:05:45 -0500 (Fri, 21 Nov 2025) EllapsedTime: 63.7 seconds RetCode: 0 Status: OK PackageFile: Damsel_1.7.0.tar.gz PackageFileSize: 3.319 MiB