Package: Damsel Version: 1.7.0 Command: rm -rf Damsel.buildbin-libdir && mkdir Damsel.buildbin-libdir && /Users/biocbuild/BBS/utils/build-universal.sh Damsel_1.7.0.tar.gz /Library/Frameworks/R.framework/Resources/bin/R Damsel.buildbin-libdir StartedAt: 2025-11-21 23:28:54 -0500 (Fri, 21 Nov 2025) EndedAt: 2025-11-21 23:28:58 -0500 (Fri, 21 Nov 2025) EllapsedTime: 4.1 seconds RetCode: 0 Status: OK PackageFile: Damsel_1.7.0.tgz PackageFileSize: 3.236 MiB