Package: DaMiRseq Version: 2.21.0 Command: /home/biocbuild/R/R/bin/R CMD INSTALL DaMiRseq StartedAt: 2025-10-20 21:16:39 -0000 (Mon, 20 Oct 2025) EndedAt: 2025-10-20 21:17:55 -0000 (Mon, 20 Oct 2025) EllapsedTime: 76.4 seconds RetCode: 0 Status: OK