Package: DaMiRseq Version: 2.21.0 Command: /home/biocbuild/bbs-3.22-bioc/R/bin/R CMD check --install=check:DaMiRseq.install-out.txt --library=/home/biocbuild/bbs-3.22-bioc/R/site-library --timings DaMiRseq_2.21.0.tar.gz StartedAt: 2025-10-10 23:08:12 -0400 (Fri, 10 Oct 2025) EndedAt: 2025-10-10 23:24:34 -0400 (Fri, 10 Oct 2025) EllapsedTime: 982.1 seconds RetCode: 0 Status: OK CheckDir: DaMiRseq.Rcheck Warnings: 0