Package: DaMiRseq Version: 2.23.0 Command: /home/biocbuild/bbs-3.23-bioc/R/bin/R CMD INSTALL DaMiRseq StartedAt: 2025-11-03 15:51:25 -0500 (Mon, 03 Nov 2025) EndedAt: 2025-11-03 15:52:23 -0500 (Mon, 03 Nov 2025) EllapsedTime: 57.2 seconds RetCode: 0 Status: OK